Workbook

Sheet Sadržaj
A1: Nekretninski puls br. 3 (listopad 2026.) – podaci i grafovi cijele publikacije
A2: Izvor numeracije: Gradjevinarstvo_i_nekretnine_listopad_26_v3_FINAL.docx. Svaki list: podaci lijevo (iz izvorne radne knjige, s formulama gdje postoje), slika iz publikacije desno.
A4: List | B4: Naslov | C4: Izvor | D4: Izvorna datoteka / list | E4: Pomoćni listovi | F4: Formule
A5: Slika 1 | B5: Prosječne cijene prodanih novih stanova po m² | C5: DZS (MSI građevinarstvo, tab. 3.1.8.) | D5: Prosječne cijene novogradnje po m2, polugodišnje.xlsx / 3.1.8. | F5: da
A6: Slika 2 | B6: Indeks cijena stambenih nekretnina (2015. = 100) | C6: DZS (ME_PS14) | D6: Indeks cijena stambenih nekretnina.xlsx / Podaci | F6: da
A7: Slika 3 | B7: Godišnje stope rasta cijena stambenih nekretnina | C7: DZS (ME_PS14) | D7: Godišnje stope rasta cijena stambenih nekretnina.xlsx / ME_PS14 | F7: da
A8: Slika 4 | B8: Indeks cijena stambenih nekretnina: novi vs. postojeći objekti (2015. = 100) | C8: DZS (ME_PS14) | D8: Indeks cijena stambenih nekretnina.xlsx / Podaci | F8: da
A9: Slika 5 | B9: Broj prodanih stambenih objekata: godišnje stope promjene | C9: DZS (ME_PS17) | D9: Broj prodanih stambenih objekata, Yy i 2015. 100.xlsx / ME_PS17 | E9: Slika 5 · Metapodaci | F9: da
A10: Slika 6 | B10: Broj prodanih stambenih objekata (2015. = 100) | C10: DZS (ME_PS17) | D10: Broj prodanih stambenih objekata, Yy i 2015. 100.xlsx / ME_PS17 | E10: Slika 6 · Metapodaci | F10: da
A11: Slika 7 | B11: Rast plaća i cijena materijala u građevinarstvu (2021. = 100) | C11: DZS | D11: Rast plaća i cijena materijala u građevinarstvu.xlsx / Tromjesečno | E11: Slika 7 · Mjesečno | F11: da
A12: Slika 8 | B12: Cijena novogradnje i troškovi građenja | C12: DZS | D12: Troškovi_građenja_i_dobit - novo.xlsx / Tromjesečno | E12: Slika 8 · Polugodišnje | F12: da
A13: Slika 9 | B13: Razlika između cijene novogradnje i troškova građenja | C13: DZS | D13: Troškovi_građenja_i_dobit - novo.xlsx / Tromjesečno | E13: Slika 9 · Polugodišnje | F13: da
A14: Slika 10 | B14: Rast cijena stambenih nekretnina u zemljama EU | C14: Eurostat (House Price Index) | D14: Rast cijena stambenih nekretnina u zemljama EU.xlsx / Rast | E14: Slika 10 · Indeksi | F14: da
A15: Slika 11 | B15: Rast troškova gradnje vs. rast cijena nekretnina (2015.–2025.) | C15: Eurostat | D15: Usporedba rasta cijena nekretnina i troškova građenja.xlsx / Usporedba | E15: Slika 11 · rast cijena nekretni, Slika 11 · rast troškova gradnj | F15: da
A16: Slika 12 | B16: Broj prosječnih neto plaća potrebnih za kupnju 1 m² novoga stana | C16: DZS | D16: m2 novih stanova za prosječnu plaću.xlsx / točni | F16: da
A17: Slika 13 | B17: Broj godišnjih neto plaća za 66 m² novog stana | C17: DZS | D17: m2 novih stanova za prosječnu plaću.xlsx / točni | F17: da
A18: Slika 14 | B18: Omjer cijena stambenih nekretnina i dohotka | C18: Eurostat (tipsho60) | D18: House price to income ratio.xlsx / Sheet 2 | E18: Slika 14 · Sheet 1 | F18: da
A19: Slika 15 | B19: Indeks priuštivosti nekretnina (IPN), Hrvatska ukupno (prosjek 2008. = 100) | C19: DZS, HNB; izračun Arhivanalitika | D19: IPN_Hrvatska_i_regije - svih 6 indeksa.xlsx / Serije | F19: vrijednosti (izvorni model je velik)
A20: Slika 16 | B20: IPN: novi vs. postojeći objekti | C20: DZS, HNB; izračun Arhivanalitika | D20: IPN_Hrvatska_i_regije - svih 6 indeksa.xlsx / Serije | F20: vrijednosti (izvorni model je velik)
A21: Slika 17 | B21: Raspodjela kupoprodajnih cijena stanova po m² u velikim gradovima, 2025. | C21: EIZ, MPGI (Pregled tržišta nekretnina RH, tablica 3.7) | D21: Nekretninski puls 2026 srpanj.xlsx / Slika 36 | F21: da
A22: Slika 18 | B22: IPN: regionalni indeksi (Grad Zagreb, Jadran, Ostalo) | C22: DZS, HNB; izračun Arhivanalitika | D22: IPN_Hrvatska_i_regije - svih 6 indeksa.xlsx / Serije | F22: vrijednosti (izvorni model je velik)
A23: Tablica 1 | B23: IPN: pregled promjena svih šest indeksa | C23: DZS, HNB; izračun Arhivanalitika | D23: IPN_Hrvatska_i_regije - svih 6 indeksa.xlsx / Pregled | F23: vrijednosti (izvorni model je velik)
A24: Slika O1 | B24: Okvir 2 – Precijenjenost stambenih nekretnina prema ECB-u (HR i EA21) | C24: ECB (Residential Property Valuation, RESV) | D24: resv_graf_data.csv | F24: vrijednosti (izračun u Pythonu, skill ciklusa)
A25: Tablica O1 | B25: Okvir 2 – Koliko je dugo precijenjeno stanovanje u Europi | C25: ECB (RESV) | D25: resv_tablica_data.csv | F25: vrijednosti (izračun u Pythonu, skill ciklusa)
A26: Slika 19 | B26: Završeni stanovi i izdane građevinske dozvole | C26: DZS | D26: slike 19 do 22.xlsx / Slika 19 | F26: da
A27: Slika 20 | B27: Završeni stanovi: procjena za 2026. | C27: DZS; procjena Arhivanalitika | D27: slike 19 do 22.xlsx / Slika 20 | F27: da
A28: Slika 21 | B28: Vrijeme do građevinske i uporabne dozvole po gradu i fazi postupka | C28: Svjetska banka, Subnational B-READY 2024 | D28: BREADY_dozvole_usporedba.xlsx / Hrvatska_faze | F28: da
A29: Slika 22 | B29: Završeni stanovi prema broju soba | C29: DZS | D29: slike 19 do 22.xlsx / Slika 21 | F29: da
A30: Slika 23 | B30: Broj izgrađenih stanova na 1.000 stanovnika | C30: DZS | D30: slike 19 do 22.xlsx / Slika 22 | F30: da
... A44: Slika 36 | B44: Iznosi novih stambenih kredita | C44: HNB | D44: slike 32 do 37.xlsx / Iznosi novih stambenih kredita | F44: da
A45: Slika 37 | B45: Stambeni krediti (stanja): nominalno i realno | C45: HNB, DZS | D45: slike 32 do 37.xlsx / Stambeni krediti nom. i realno | E45: Slika 37 · Indeks cijena (defla | F45: da
A46: Slika 38 | B46: Kupoprodaje nekretnina stranih državljana | C46: Porezna uprava | D46: Udio stranaca.xlsx / udio stranaca | F46: vrijednosti (izvorni model je velik)
A47: Tablica A | B47: Prilog – Završeni stanovi po županijama, 2002.–2025. | C47: DZS (tab. 3.2.5.) | D47: građevinarstvo 30.3.2026.xlsx / 3.2.5. (3) | F47: da
A48: Tablica B | B48: Prilog – Broj stanova za koje su izdane građevinske dozvole, po županijama, 2002.–2025. | C48: DZS (tab. 3.2.3.) | D48: građevinarstvo 30.3.2026.xlsx / 3.2.3., dozvole po županijama | F48: da

Sheet Slika 1
A1: 3.1.8. | BA1: Slika 1
A2: PROSJEČNE CIJENE PRODANIH NOVIH STANOVA PO 1 m2 | BA2: Prosječne cijene prodanih novih stanova po m²
A3: AVERAGE PRICES OF NEW DWELLINGS SOLD PER 1 m2 | BA3: Izvor: DZS (MSI građevinarstvo, tab. 3.1.8.) · obrada: Ekonomski lab / Arhivanalitika
A4: Molimo korisnike da pri korištenju podataka navedu izvor.
A5: Users are kindly requested to state the source.
B6: euri/ Euro
B7: kune/ Kuna
C8: 2010. | F8: 2011. | I8: 2012. | L8: 2013. | O8: 2014. | R8: 2015. | U8: 2016. | X8: 2017. | AA8: 2018. | AD8: 2019. | AG8: 2020. | AJ8: 2021. | AM8: 2022. | AP8: 2023. | AS8: 2024. | AV8: 2025. | AY8: 2026.
C9: I. – VI. | D9: VII. – XII. | E9: I. – XII. | F9: I. – VI. | G9: VII. – XII. | H9: I. – XII. | I9: I. – VI. | J9: VII. – XII. | K9: I. – XII. | L9: I. – VI. | M9: VII. – XII. | N9: I. – XII. | O9: I. – VI. | P9: VII. – XII. | Q9: I. – XII. | R9: I. – VI. | S9: VII. – XII. | T9: I. – XII. | U9: I. – VI. | V9: VII. – XII. | W9: I. – XII. | X9: I. – VI. | Y9: VII. – XII. | Z9: I. – XII. | AA9: I. – VI. | AB9: VII. – XII. | AC9: I. – XII. | AD9: I. – VI. | AE9: VII. – XII. | AF9: I. – XII. | AG9: I. – VI. | AH9: VII. – XII. | AI9: I. – XII. | AJ9: I. – VI. | AK9: VII. – XII. | AL9: I. – XII. | AM9: I. – VI. | AN9: VII. – XII. | AO9: I. – XII. | AP9: I. – VI. | AQ9: VII. – XII. | AR9: I. – XII. | AS9: I. – VI. | AT9: VII. – XII. | AU9: I. – XII. | AV9: I. – VI. | AW9: VII. – XII. | AX9: I. – XII. | AY9: I. – VI.
A10: Republika Hrvatska | B10: Republic of Croatia | C10: 1436.0608 | D10: 1474.6831 | E10: 1456.1019 | F10: 1603.4242 | G10: 1529.8958 | H10: 1561.3511 | I10: 1580.5959 | J10: 1475.7449 | K10: 1535.6029 | L10: 1404.2073 | M10: 1362.9305 | N10: 1383.768 | O10: 1364.3905 | P10: 1419.7359 | Q10: 1396.7748 | R10: 1518.2162 | S10: 1359.6124 | T10: 1418.5414 | U10: 1350.9855 | V10: 1313.8231 | W10: 1331.7407 | X10: 1372.0884 | Y10: 1467.9143 | Z10: 1424.6466 | AA10: 1437.2553 | AB10: 1590.8156 | AC10: 1521.7997 | AD10: 1611.5203 | AE10: 1658.106 | AF10: 1637.534 | AG10: 1702.0373 | AH10: 1678.0145 | AI10: 1688.765 | AJ10: 1776.4948 | AK10: 1863.1628 | AL10: 1820.0279 | AM10: 2131.2629 | AN10: 2237.3084 | AO10: 2188.4664 | AP10: 2219 | AQ10: 2278 | AR10: 2246 | AS10: 2377 | AT10: 2615 | AU10: 2504 | AV10: 2754 | AW10: 2861 | AX10: 2809 | AY10: 2994
A11: Zagreb | B11: Zagreb | C11: 1609.1313 | D11: 1657.177 | E11: 1635.4104 | F11: 1672.5728 | G11: 1615.502 | H11: 1638.8612 | I11: 1659.6987 | J11: 1666.0694 | K11: 1662.2205 | L11: 1509.4565 | M11: 1436.9898 | N11: 1473.7541 | O11: 1582.454 | P11: 1590.2847 | Q11: 1587.0993 | R11: 1652.1335 | S11: 1508.9256 | T11: 1565.731 | U11: 1484.3719 | V11: 1317.4066 | W11: 1386.2897 | X11: 1547.0171 | Y11: 1644.4356 | Z11: 1605.6805 | AA11: 1645.3647 | AB11: 1720.6185 | AC11: 1692.0831 | AD11: 1645.7628 | AE11: 1757.1173 | AF11: 1703.3645 | AG11: 1897.8034 | AH11: 1831.9729 | AI11: 1859.8447 | AJ11: 1874.9751 | AK11: 2030.9244 | AL11: 1947.309 | AM11: 2454.3102 | AN11: 2732.7626 | AO11: 2577.7424 | AP11: 2623 | AQ11: 2762 | AR11: 2684 | AS11: 2830 | AT11: 2992 | AU11: 2917 | AV11: 2958 | AW11: 3428 | AX11: 3129 | AY11: 3518
A12: Ostala naselja | B12: Other settlements | C12: 1281.9696 | D12: 1269.0955 | E12: 1275.5989 | F12: 1507.0675 | G12: 1384.6971 | H12: 1440.7061 | I12: 1446.6786 | J12: 1262.0612 | K12: 1356.5598 | L12: 1256.0887 | M12: 1261.9285 | N12: 1259.0086 | O12: 1193.3108 | P12: 1261.2648 | Q12: 1231.6677 | R12: 1370.4957 | S12: 1226.4915 | T12: 1276.3952 | U12: 1242.4182 | V12: 1308.6469 | W12: 1271.75 | X12: 1262.8575 | Y12: 1305.727 | Z12: 1284.6241 | AA12: 1298.6927 | AB12: 1441.7679 | AC12: 1368.3722 | AD12: 1560.1566 | AE12: 1554.9804 | AF12: 1557.104 | AG12: 1494.857 | AH12: 1478.5321 | AI12: 1486.23 | AJ12: 1638.7285 | AK12: 1694.4721 | AL12: 1669.2548 | AM12: 1745.9685 | AN12: 1946.38 | AO12: 1869.6662 | AP12: 1916 | AQ12: 1966 | AR12: 1940 | AS12: 2059 | AT12: 2346 | AU12: 2211 | AV12: 2511 | AW12: 2624 | AX12: 2581 | AY12: 2754
A13: Prema prodavatelju stanova | B13: Dwellings sold by sellers:
A14: Trgovačka društva i druge pravne osobe, bez POS-a | B14: Trade companies and other legal entities, excluding POS
A15: Republika Hrvatska | B15: Republic of Croatia | C15: 1541.4427 | D15: 1569.9781 | E15: 1556.4404 | F15: 1614.3075 | G15: 1532.8157 | H15: 1567.5891 | I15: 1583.6486 | J15: 1531.7539 | K15: 1562.6783 | L15: 1424.2485 | M15: 1405.4018 | N15: 1415.0906 | O15: 1467.1179 | P15: 1490.4771 | Q15: 1481.3193 | R15: 1536.9301 | S15: 1489.0172 | T15: 1510.1201 | U15: 1444.4223 | V15: 1485.9646 | W15: 1463.5344 | X15: 1463.1362 | Y15: 1486.0973 | Z15: 1476.9394 | AA15: 1499.9005 | AB15: 1620.4128 | AC15: 1568.6509 | AD15: 1642.4448 | AE15: 1680.5362 | AF15: 1663.8131 | AG15: 1717.3004 | AH15: 1700.5773 | AI15: 1708.0098 | AJ15: 1798.3941 | AK15: 1875.3733 | AL15: 1837.2818 | AM15: 2177.9813 | AN15: 2286.1504 | AO15: 2236.6448 | AP15: 2326 | AQ15: 2359 | AR15: 2342 | AS15: 2473 | AT15: 2652 | AU15: 2571 | AV15: 2766 | AW15: 2885 | AX15: 2827 | AY15: 3012
A16: Zagreb | B16: Zagreb | C16: 1743.7123 | D16: 1666.8658 | E16: 1698.5865 | F16: 1678.5454 | G16: 1616.4311 | H16: 1641.7811 | I16: 1659.6987 | J16: 1666.0694 | K16: 1662.2205 | L16: 1509.4565 | M16: 1436.9898 | N16: 1473.7541 | O16: 1582.454 | P16: 1590.2847 | Q16: 1587.0993 | R16: 1652.1335 | S16: 1597.319 | T16: 1621.0764 | U16: 1510.3856 | V16: 1523.2597 | W16: 1516.0926 | X16: 1562.1475 | Y16: 1648.1518 | Z16: 1614.4402 | AA16: 1649.6118 | AB16: 1736.1471 | AC16: 1702.9664 | AD16: 1688.8977 | AE16: 1777.5566 | AF16: 1735.6162 | AG16: 1909.7485 | AH16: 1874.7097 | AI16: 1889.8401 | AJ16: 1907.3595 | AK16: 2055.08 | AL16: 1976.3753 | AM16: 2463.3353 | AN16: 2741.7878 | AO16: 2586.7675 | AP16: 2633 | AQ16: 2762 | AR16: 2690 | AS16: 2835 | AT16: 2998 | AU16: 2922 | AV16: 2964 | AW16: 3436 | AX16: 3136 | AY16: 3554
A17: Ostala naselja | B17: Other settlements | C17: 1353.2418 | D17: 1412.967 | E17: 1380.1845 | F17: 1523.5251 | G17: 1390.006 | H17: 1450.6603 | I17: 1453.3148 | J17: 1339.8368 | K17: 1404.34 | L17: 1290.0657 | M17: 1351.1182 | N17: 1318.7338 | O17: 1315.283 | P17: 1362.3996 | Q17: 1344.0839 | R17: 1398.7657 | S17: 1350.1891 | T17: 1372.0884 | U17: 1363.5941 | V17: 1446.8113 | W17: 1403.6764 | X17: 1369.0358 | Y17: 1324.9718 | Z17: 1342.7567 | AA17: 1375.0083 | AB17: 1478.0012 | AC17: 1428.761 | AD17: 1575.1543 | AE17: 1577.9415 | AF17: 1576.8797 | AG17: 1508.7929 | AH17: 1483.9737 | AI17: 1495.5206 | AJ17: 1648.9482 | AK17: 1698.0556 | AL17: 1675.8909 | AM17: 1798.9249 | AN17: 2001.7254 | AO17: 1926.4716 | AP17: 2048 | AQ17: 2063 | AR17: 2055 | AS17: 2177 | AT17: 2393 | AU17: 2298 | AV17: 2528 | AW17: 2649 | AX17: 2603 | AY17: 2766
A18: POS1) | B18: POS1)
A19: Republika Hrvatska | B19: Republic of Croatia | C19: 945.78273 | D19: 950.95892 | E19: 948.30447 | F19: 831.37567 | G19: 848.89508 | H19: 836.55186 | I19: 919.63634 | J19: 977.23804 | K19: 973.91997 | L19: 970.33645 | M19: 918.57456 | N19: 936.09397 | O19: 1013.2059 | P19: 994.35928 | Q19: 1004.3135 | R19: 1036.8306 | S19: 1027.6727 | T19: 1028.3363 | U19: 1029.3981 | V19: 1039.6178 | W19: 1036.0342 | X19: 1077.4438 | Y19: 1087.1325 | Z19: 1079.3019 | AA19: 1006.5698 | AB19: 1041.0777 | AC19: 1017.9839 | AD19: 995.55379 | AE19: 1051.2974 | AF19: 1022.4965 | AG19: 1090.1851 | AH19: 979.75977 | AI19: 1022.3638 | AJ19: 995.28834 | AK19: 1049.0411 | AL19: 1014.2677 | AM19: 1288.3403 | AN19: 1131.0638 | AO19: 1212.1574 | AP19: 1305 | AQ19: 1280 | AR19: 1295 | AS19: 1342 | AT19: 1316 | AU19: 1335 | AV19: 1245 | AW19: 1623 | AX19: 1513 | AY19: 1410
A20: Zagreb | B20: Zagreb | C20: 892.95906 | D20: 876.50143 | E20: 891.63183 | F20: 876.50143 | G20: 860.84014 | H20: 873.58152 | I20: - | J20: - | K20: - | L20: - | M20: - | N20: - | O20: - | P20: - | Q20: - | R20: - | S20: 976.83987 | T20: 976.83987 | U20: 976.83987 | V20: 1086.9998 | W20: 1079.5673 | X20: 1086.8671 | Y20: 1060.4552 | Z20: 1080.7618 | AA20: 1036.9633 | AB20: 982.54695 | AC20: 991.83755 | AD20: 994.09384 | AE20: 1059.9243 | AF20: 1015.7277 | AG20: 1001.1281 | AH20: 996.48285 | AI20: 997.27918 | AJ20: 1001.3936 | AK20: 1053.0228 | AL20: 1020.5057 | AM20: 1043.334 | AN20: 976.83987 | AO20: 1017.453 | AP20: 1005 | AQ20: - | AR20: 1005 | AS20: 977 | AT20: 1026 | AU20: 1004 | AV20: 1030 | AW20: 977 | AX20: 1009 | AY20: 1035
A21: Ostala naselja | B21: Other settlements | C21: 984.27235 | D21: 954.27699 | E21: 965.9566 | F21: 810.93636 | G21: 846.50607 | H21: 822.74869 | I21: 919.63634 | J21: 977.23804 | K21: 973.91997 | L21: 970.33645 | M21: 918.57456 | N21: 936.09397 | O21: 1013.2059 | P21: 994.35928 | Q21: 1004.3135 | R21: 1036.8306 | S21: 1043.5994 | T21: 1042.9358 | U21: 1035.1052 | V21: 913.39837 | W21: 991.5721 | X21: 1076.9129 | Y21: 1089.1234 | Z21: 1079.1692 | AA21: 1005.9062 | AB21: 1057.1372 | AC21: 1020.373 | AD21: 1001.1281 | AE21: 1045.3248 | AF21: 1032.8489 | AG21: 1124.5604 | AH21: 858.3184 | AI21: 1068.4186 | AJ21: 975.11447 | AK21: 1031.1235 | AL21: 991.70482 | AM21: 1305.727 | AN21: 1138.3635 | AO21: 1223.5716 | AP21: 1313 | AQ21: 1280 | AR21: 1300 | AS21: 1347 | AT21: 1330 | AU21: 1343 | AV21: 1303 | AW21: 1660 | AX21: 1569 | AY21: 1644
A24: 1) Prodavatelji koji prodaju stanove na temelju Programa društveno poticane stanogradnje – POS-a (Zakon o društveno poticanoj stanogradnji; NN, br. 109/01., 82/04., 76/07., 38/09., 86/12., 7/13., 26/15., 57/18., 66/19., 58/21. i 72/25.)
A26: 1) Sellers who sell dwellings on the basis of the Programme of Subsidised Residential Construction – POS (the Act on Subsidised Residential Construction, NN, Nos 109/01, 82/04, 76/07, 38/09, 86/12, 7/13, 26/15, 57/18, 66/19, 58/21 and 72/25).
A29: Republika Hrvatska | B29: Republic of Croatia | C29: 10820 | D29: 11111 | E29: 10971 | F29: 12081 | G29: 11527 | H29: 11764 | I29: 11909 | J29: 11119 | K29: 11570 | L29: 10580 | M29: 10269 | N29: 10426 | O29: 10280 | P29: 10697 | Q29: 10524 | R29: 11439 | S29: 10244 | T29: 10688 | U29: 10179 | V29: 9899 | W29: 10034 | X29: 10338 | Y29: 11060 | Z29: 10734 | AA29: 10829 | AB29: 11986 | AC29: 11466 | AD29: 12142 | AE29: 12493 | AF29: 12338 | AG29: 12824 | AH29: 12643 | AI29: 12724 | AJ29: 13385 | AK29: 14038 | AL29: 13713 | AM29: 16058 | AN29: 16857 | AO29: 16489 | AP29: 16719.055 | AQ29: 17163.591 | AR29: 16922.487 | AS29: - | AT29: - | AU29: - | AV29: - | AW29: - | AX29: - | AY29: -
A30: Zagreb | B30: Zagreb | C30: 12124 | D30: 12486 | E30: 12322 | F30: 12602 | G30: 12172 | H30: 12348 | I30: 12505 | J30: 12553 | K30: 12524 | L30: 11373 | M30: 10827 | N30: 11104 | O30: 11923 | P30: 11982 | Q30: 11958 | R30: 12448 | S30: 11369 | T30: 11797 | U30: 11184 | V30: 9926 | W30: 10445 | X30: 11656 | Y30: 12390 | Z30: 12098 | AA30: 12397 | AB30: 12964 | AC30: 12749 | AD30: 12400 | AE30: 13239 | AF30: 12834 | AG30: 14299 | AH30: 13803 | AI30: 14013 | AJ30: 14127 | AK30: 15302 | AL30: 14672 | AM30: 18492 | AN30: 20590 | AO30: 19422 | AP30: 19762.994 | AQ30: 20810.289 | AR30: 20222.598 | AS30: - | AT30: - | AU30: - | AV30: - | AW30: - | AX30: - | AY30: -
A31: Ostala naselja | B31: Other settlements | C31: 9659 | D31: 9562 | E31: 9611 | F31: 11355 | G31: 10433 | H31: 10855 | I31: 10900 | J31: 9509 | K31: 10221 | L31: 9464 | M31: 9508 | N31: 9486 | O31: 8991 | P31: 9503 | Q31: 9280 | R31: 10326 | S31: 9241 | T31: 9617 | U31: 9361 | V31: 9860 | W31: 9582 | X31: 9515 | Y31: 9838 | Z31: 9679 | AA31: 9785 | AB31: 10863 | AC31: 10310 | AD31: 11755 | AE31: 11716 | AF31: 11732 | AG31: 11263 | AH31: 11140 | AI31: 11198 | AJ31: 12347 | AK31: 12767 | AL31: 12577 | AM31: 13155 | AN31: 14665 | AO31: 14087 | AP31: 14436.102 | AQ31: 14812.827 | AR31: 14616.93 | AS31: - | AT31: - | AU31: - | AV31: - | AW31: - | AX31: - | AY31: -
A32: Prema prodavatelju stanova | B32: Dwellings sold by sellers:
A33: Trgovačka društva i druge pravne osobe, bez POS-a | B33: Trade companies and other legal entities, excluding POS
A34: Republika Hrvatska | B34: Republic of Croatia | C34: 11614 | D34: 11829 | E34: 11727 | F34: 12163 | G34: 11549 | H34: 11811 | I34: 11932 | J34: 11541 | K34: 11774 | L34: 10731 | M34: 10589 | N34: 10662 | O34: 11054 | P34: 11230 | Q34: 11161 | R34: 11580 | S34: 11219 | T34: 11378 | U34: 10883 | V34: 11196 | W34: 11027 | X34: 11024 | Y34: 11197 | Z34: 11128 | AA34: 11301 | AB34: 12209 | AC34: 11819 | AD34: 12375 | AE34: 12662 | AF34: 12536 | AG34: 12939 | AH34: 12813 | AI34: 12869 | AJ34: 13550 | AK34: 14130 | AL34: 13843 | AM34: 16410 | AN34: 17225 | AO34: 16852 | AP34: 17525.247 | AQ34: 17773.886 | AR34: 17645.799 | AS34: - | AT34: - | AU34: - | AV34: - | AW34: - | AX34: - | AY34: -
A35: Zagreb | B35: Zagreb | C35: 13138 | D35: 12559 | E35: 12798 | F35: 12647 | G35: 12179 | H35: 12370 | I35: 12505 | J35: 12553 | K35: 12524 | L35: 11373 | M35: 10827 | N35: 11104 | O35: 11923 | P35: 11982 | Q35: 11958 | R35: 12448 | S35: 12035 | T35: 12214 | U35: 11380 | V35: 11477 | W35: 11423 | X35: 11770 | Y35: 12418 | Z35: 12164 | AA35: 12429 | AB35: 13081 | AC35: 12831 | AD35: 12725 | AE35: 13393 | AF35: 13077 | AG35: 14389 | AH35: 14125 | AI35: 14239 | AJ35: 14371 | AK35: 15484 | AL35: 14891 | AM35: 18560 | AN35: 20658 | AO35: 19490 | AP35: 19838.339 | AQ35: 20810.289 | AR35: 20267.805 | AS35: - | AT35: - | AU35: - | AV35: - | AW35: - | AX35: - | AY35: -
A36: Ostala naselja | B36: Other settlements | C36: 10196 | D36: 10646 | E36: 10399 | F36: 11479 | G36: 10473 | H36: 10930 | I36: 10950 | J36: 10095 | K36: 10581 | L36: 9720 | M36: 10180 | N36: 9936 | O36: 9910 | P36: 10265 | Q36: 10127 | R36: 10539 | S36: 10173 | T36: 10338 | U36: 10274 | V36: 10901 | W36: 10576 | X36: 10315 | Y36: 9983 | Z36: 10117 | AA36: 10360 | AB36: 11136 | AC36: 10765 | AD36: 11868 | AE36: 11889 | AF36: 11881 | AG36: 11368 | AH36: 11181 | AI36: 11268 | AJ36: 12424 | AK36: 12794 | AL36: 12627 | AM36: 13554 | AN36: 15082 | AO36: 14515 | AP36: 15430.656 | AQ36: 15543.674 | AR36: 15483.397 | AS36: - | AT36: - | AU36: - | AV36: - | AW36: - | AX36: - | AY36: -
A37: POS1) | B37: POS1)
A38: Republika Hrvatska | B38: Republic of Croatia | C38: 7126 | D38: 7165 | E38: 7145 | F38: 6264 | G38: 6396 | H38: 6303 | I38: 6929 | J38: 7363 | K38: 7338 | L38: 7311 | M38: 6921 | N38: 7053 | O38: 7634 | P38: 7492 | Q38: 7567 | R38: 7812 | S38: 7743 | T38: 7748 | U38: 7756 | V38: 7833 | W38: 7806 | X38: 8118 | Y38: 8191 | Z38: 8132 | AA38: 7584 | AB38: 7844 | AC38: 7670 | AD38: 7501 | AE38: 7921 | AF38: 7704 | AG38: 8214 | AH38: 7382 | AI38: 7703 | AJ38: 7499 | AK38: 7904 | AL38: 7642 | AM38: 9707 | AN38: 8522 | AO38: 9133 | AP38: 9832.5225 | AQ38: 9644.16 | AR38: 9757.1775 | AS38: - | AT38: - | AU38: - | AV38: - | AW38: - | AX38: - | AY38: -
A39: Zagreb | B39: Zagreb | C39: 6728 | D39: 6604 | E39: 6718 | F39: 6604 | G39: 6486 | H39: 6582 | I39: - | J39: - | K39: - | L39: - | M39: - | N39: - | O39: - | P39: - | Q39: - | R39: - | S39: 7360 | T39: 7360 | U39: 7360 | V39: 8190 | W39: 8134 | X39: 8189 | Y39: 7990 | Z39: 8143 | AA39: 7813 | AB39: 7403 | AC39: 7473 | AD39: 7490 | AE39: 7986 | AF39: 7653 | AG39: 7543 | AH39: 7508 | AI39: 7514 | AJ39: 7545 | AK39: 7934 | AL39: 7689 | AM39: 7861 | AN39: 7360 | AO39: 7666 | AP39: 7572.1725 | AQ39: - | AR39: 7572.1725 | AS39: - | AT39: - | AU39: - | AV39: - | AW39: - | AX39: - | AY39: -
A40: Ostala naselja | B40: Other settlements | C40: 7416 | D40: 7190 | E40: 7278 | F40: 6110 | G40: 6378 | H40: 6199 | I40: 6929 | J40: 7363 | K40: 7338 | L40: 7311 | M40: 6921 | N40: 7053 | O40: 7634 | P40: 7492 | Q40: 7567 | R40: 7812 | S40: 7863 | T40: 7858 | U40: 7799 | V40: 6882 | W40: 7471 | X40: 8114 | Y40: 8206 | Z40: 8131 | AA40: 7579 | AB40: 7965 | AC40: 7688 | AD40: 7543 | AE40: 7876 | AF40: 7782 | AG40: 8473 | AH40: 6467 | AI40: 8050 | AJ40: 7347 | AK40: 7769 | AL40: 7472 | AM40: 9838 | AN40: 8577 | AO40: 9219 | AP40: 9892.7985 | AQ40: 9644.16 | AR40: 9794.85 | AS40: - | AT40: - | AU40: - | AV40: - | AW40: - | AX40: - | AY40: -
A43: 1) Prodavatelji koji prodaju stanove na temelju Programa društveno poticane stanogradnje – POS-a (Zakon o društveno poticanoj stanogradnji; NN, br. 109/01., 82/04., 76/07., 38/09., 86/12., 7/13., 26/15., 57/18., 66/19. i 58/21.)
A45: 1) Sellers who sell dwellings on the basis of the Programme of Subsidised Residential Construction – POS (the Act on Subsidised Residential Construction, NN, Nos 109/01, 82/04, 76/07, 38/09, 86/12, 7/13, 26/15, 57/18, 66/19 and 58/21).

Sheet Slika 2
A1: Indeks cijena stambenih nekretnina (DZS) – podaci za sliku | N1: Bazna godina za grafikon | P1: Slika 2
A2: Izvor: DZS, PC-Axis baza Cijene, Tabela 1.4 Indeksi cijena stambenih objekata, po tromjesečjima (ME_PS14), indeksi 2025. = 100; preuzeto 5. 10. 2026. https://web.dzs.hr/PXWeb/Menu.aspx?px_language=hr&px_type=PX&px_db=Cijene | N2: 2015 | P2: Indeks cijena stambenih nekretnina (2015. = 100)
A3: Podaci za 2026. Q2 privremeni su (DZS, priopćenje CIJ-2026-2-1/2, 1. 10. 2026.). Plavo = preuzeti podaci DZS-a; crno = formule. | N3: Promjenom ove ćelije mijenja se baza stupaca J:L (prosjek četiriju tromjesečja = 100). | P3: Izvor: DZS (ME_PS14) · obrada: Ekonomski lab / Arhivanalitika
C4: DZS, indeksi 2025. = 100 | J4: Grafikon: indeksi, bazna godina (N2) = 100
A5: Tromjesečje | B5: Godina | C5: Ukupno RH | D5: Novi stambeni objekti | E5: Postojeći stambeni objekti | F5: Grad Zagreb | G5: Jadran | H5: Ostalo | J5: Grad Zagreb | K5: Jadran | L5: Ostalo
A6: 2002 Q1 | B6: 2002 | C6: 26.85 | F6: 26.88 | G6: 24.25 | H6: 31.73 | J6: =F6/AVERAGEIFS(F$6:F$103,$B$6:$B$103,$N$2)*100 -> 67.208401 | K6: =G6/AVERAGEIFS(G$6:G$103,$B$6:$B$103,$N$2)*100 -> 51.80517 | L6: =H6/AVERAGEIFS(H$6:H$103,$B$6:$B$103,$N$2)*100 -> 69.030784
A7: 2002 Q2 | B7: 2002 | C7: 26.54 | F7: 26.6 | G7: 23.81 | H7: 31.72 | J7: =F7/AVERAGEIFS(F$6:F$103,$B$6:$B$103,$N$2)*100 -> 66.508314 | K7: =G7/AVERAGEIFS(G$6:G$103,$B$6:$B$103,$N$2)*100 -> 50.8652 | L7: =H7/AVERAGEIFS(H$6:H$103,$B$6:$B$103,$N$2)*100 -> 69.009029
A8: 2002 Q3 | B8: 2002 | C8: 28.04 | F8: 28.53 | G8: 24.96 | H8: 32.29 | J8: =F8/AVERAGEIFS(F$6:F$103,$B$6:$B$103,$N$2)*100 -> 71.333917 | K8: =G8/AVERAGEIFS(G$6:G$103,$B$6:$B$103,$N$2)*100 -> 53.32194 | L8: =H8/AVERAGEIFS(H$6:H$103,$B$6:$B$103,$N$2)*100 -> 70.249103
A9: 2002 Q4 | B9: 2002 | C9: 28.22 | F9: 28.51 | G9: 25.11 | H9: 33.36 | J9: =F9/AVERAGEIFS(F$6:F$103,$B$6:$B$103,$N$2)*100 -> 71.28391 | K9: =G9/AVERAGEIFS(G$6:G$103,$B$6:$B$103,$N$2)*100 -> 53.642384 | L9: =H9/AVERAGEIFS(H$6:H$103,$B$6:$B$103,$N$2)*100 -> 72.576961
A10: 2003 Q1 | B10: 2003 | C10: 30.71 | F10: 30.52 | G10: 28.06 | H10: 36.27 | J10: =F10/AVERAGEIFS(F$6:F$103,$B$6:$B$103,$N$2)*100 -> 76.309539 | K10: =G10/AVERAGEIFS(G$6:G$103,$B$6:$B$103,$N$2)*100 -> 59.944456 | L10: =H10/AVERAGEIFS(H$6:H$103,$B$6:$B$103,$N$2)*100 -> 78.907865
A11: 2003 Q2 | B11: 2003 | C11: 31.6 | F11: 31.17 | G11: 29.83 | H11: 35.36 | J11: =F11/AVERAGEIFS(F$6:F$103,$B$6:$B$103,$N$2)*100 -> 77.934742 | K11: =G11/AVERAGEIFS(G$6:G$103,$B$6:$B$103,$N$2)*100 -> 63.7257 | L11: =H11/AVERAGEIFS(H$6:H$103,$B$6:$B$103,$N$2)*100 -> 76.928097
A12: 2003 Q3 | B12: 2003 | C12: 31.93 | F12: 31.43 | G12: 30.32 | H12: 35.41 | J12: =F12/AVERAGEIFS(F$6:F$103,$B$6:$B$103,$N$2)*100 -> 78.584823 | K12: =G12/AVERAGEIFS(G$6:G$103,$B$6:$B$103,$N$2)*100 -> 64.772485 | L12: =H12/AVERAGEIFS(H$6:H$103,$B$6:$B$103,$N$2)*100 -> 77.036876
A13: 2003 Q4 | B13: 2003 | C13: 34.11 | F13: 34.16 | G13: 31.68 | H13: 37.55 | J13: =F13/AVERAGEIFS(F$6:F$103,$B$6:$B$103,$N$2)*100 -> 85.410676 | K13: =G13/AVERAGEIFS(G$6:G$103,$B$6:$B$103,$N$2)*100 -> 67.677847 | L13: =H13/AVERAGEIFS(H$6:H$103,$B$6:$B$103,$N$2)*100 -> 81.692592
A14: 2004 Q1 | B14: 2004 | C14: 34.77 | F14: 34.93 | G14: 32.42 | H14: 37.44 | J14: =F14/AVERAGEIFS(F$6:F$103,$B$6:$B$103,$N$2)*100 -> 87.335917 | K14: =G14/AVERAGEIFS(G$6:G$103,$B$6:$B$103,$N$2)*100 -> 69.258705 | L14: =H14/AVERAGEIFS(H$6:H$103,$B$6:$B$103,$N$2)*100 -> 81.45328
A15: 2004 Q2 | B15: 2004 | C15: 35.93 | F15: 35.99 | G15: 34.06 | H15: 37.29 | J15: =F15/AVERAGEIFS(F$6:F$103,$B$6:$B$103,$N$2)*100 -> 89.986248 | K15: =G15/AVERAGEIFS(G$6:G$103,$B$6:$B$103,$N$2)*100 -> 72.76223 | L15: =H15/AVERAGEIFS(H$6:H$103,$B$6:$B$103,$N$2)*100 -> 81.126944
A16: 2004 Q3 | B16: 2004 | C16: 37.2 | F16: 37.4 | G16: 34.72 | H16: 39.83 | J16: =F16/AVERAGEIFS(F$6:F$103,$B$6:$B$103,$N$2)*100 -> 93.511689 | K16: =G16/AVERAGEIFS(G$6:G$103,$B$6:$B$103,$N$2)*100 -> 74.172185 | L16: =H16/AVERAGEIFS(H$6:H$103,$B$6:$B$103,$N$2)*100 -> 86.652888
A17: 2004 Q4 | B17: 2004 | C17: 39.5 | F17: 39.31 | G17: 37.38 | H17: 42.27 | J17: =F17/AVERAGEIFS(F$6:F$103,$B$6:$B$103,$N$2)*100 -> 98.287286 | K17: =G17/AVERAGEIFS(G$6:G$103,$B$6:$B$103,$N$2)*100 -> 79.854732 | L17: =H17/AVERAGEIFS(H$6:H$103,$B$6:$B$103,$N$2)*100 -> 91.961275
... A28: 2007 Q3 | B28: 2007 | C28: 55.21 | F28: 54.24 | G28: 54.64 | H28: 55.28 | J28: =F28/AVERAGEIFS(F$6:F$103,$B$6:$B$103,$N$2)*100 -> 135.61695 | K28: =G28/AVERAGEIFS(G$6:G$103,$B$6:$B$103,$N$2)*100 -> 116.7272 | L28: =H28/AVERAGEIFS(H$6:H$103,$B$6:$B$103,$N$2)*100 -> 120.26542
A29: 2007 Q4 | B29: 2007 | C29: 54.94 | D29: 67.55 | E29: 53.76 | F29: 53.94 | G29: 54.32 | H29: 55.19 | J29: =F29/AVERAGEIFS(F$6:F$103,$B$6:$B$103,$N$2)*100 -> 134.86686 | K29: =G29/AVERAGEIFS(G$6:G$103,$B$6:$B$103,$N$2)*100 -> 116.04358 | L29: =H29/AVERAGEIFS(H$6:H$103,$B$6:$B$103,$N$2)*100 -> 120.06962
A30: 2008 Q1 | B30: 2008 | C30: 54.38 | D30: 66.85 | E30: 53.22 | F30: 53.56 | G30: 53.78 | H30: 54.18 | J30: =F30/AVERAGEIFS(F$6:F$103,$B$6:$B$103,$N$2)*100 -> 133.91674 | K30: =G30/AVERAGEIFS(G$6:G$103,$B$6:$B$103,$N$2)*100 -> 114.88998 | L30: =H30/AVERAGEIFS(H$6:H$103,$B$6:$B$103,$N$2)*100 -> 117.87229
A31: 2008 Q2 | B31: 2008 | C31: 54.7 | D31: 67.85 | E31: 53.25 | F31: 53.65 | G31: 54.91 | H31: 53.53 | J31: =F31/AVERAGEIFS(F$6:F$103,$B$6:$B$103,$N$2)*100 -> 134.14177 | K31: =G31/AVERAGEIFS(G$6:G$103,$B$6:$B$103,$N$2)*100 -> 117.30399 | L31: =H31/AVERAGEIFS(H$6:H$103,$B$6:$B$103,$N$2)*100 -> 116.45817
A32: 2008 Q3 | B32: 2008 | C32: 55.71 | D32: 69.18 | E32: 54.21 | F32: 53.84 | G32: 57.04 | H32: 54.48 | J32: =F32/AVERAGEIFS(F$6:F$103,$B$6:$B$103,$N$2)*100 -> 134.61683 | K32: =G32/AVERAGEIFS(G$6:G$103,$B$6:$B$103,$N$2)*100 -> 121.8543 | L32: =H32/AVERAGEIFS(H$6:H$103,$B$6:$B$103,$N$2)*100 -> 118.52496
A33: 2008 Q4 | B33: 2008 | C33: 54.26 | D33: 66.57 | E33: 53.17 | F33: 51.93 | G33: 55.67 | H33: 54.15 | J33: =F33/AVERAGEIFS(F$6:F$103,$B$6:$B$103,$N$2)*100 -> 129.84123 | K33: =G33/AVERAGEIFS(G$6:G$103,$B$6:$B$103,$N$2)*100 -> 118.92758 | L33: =H33/AVERAGEIFS(H$6:H$103,$B$6:$B$103,$N$2)*100 -> 117.80703
A34: 2009 Q1 | B34: 2009 | C34: 54.05 | D34: 67.89 | E34: 52.24 | F34: 51.82 | G34: 54.86 | H34: 54.77 | J34: =F34/AVERAGEIFS(F$6:F$103,$B$6:$B$103,$N$2)*100 -> 129.5662 | K34: =G34/AVERAGEIFS(G$6:G$103,$B$6:$B$103,$N$2)*100 -> 117.19718 | L34: =H34/AVERAGEIFS(H$6:H$103,$B$6:$B$103,$N$2)*100 -> 119.15588
A35: 2009 Q2 | B35: 2009 | C35: 52.17 | D35: 67.02 | E35: 49.75 | F35: 49.72 | G35: 53.54 | H35: 52.58 | J35: =F35/AVERAGEIFS(F$6:F$103,$B$6:$B$103,$N$2)*100 -> 124.31554 | K35: =G35/AVERAGEIFS(G$6:G$103,$B$6:$B$103,$N$2)*100 -> 114.37727 | L35: =H35/AVERAGEIFS(H$6:H$103,$B$6:$B$103,$N$2)*100 -> 114.39138
A36: 2009 Q3 | B36: 2009 | C36: 51.22 | D36: 66.25 | E36: 48.64 | F36: 48.23 | G36: 53.23 | H36: 51.9 | J36: =F36/AVERAGEIFS(F$6:F$103,$B$6:$B$103,$N$2)*100 -> 120.59007 | K36: =G36/AVERAGEIFS(G$6:G$103,$B$6:$B$103,$N$2)*100 -> 113.71502 | L36: =H36/AVERAGEIFS(H$6:H$103,$B$6:$B$103,$N$2)*100 -> 112.912
A37: 2009 Q4 | B37: 2009 | C37: 50.35 | D37: 63.39 | E37: 48.6 | F37: 48.16 | G37: 52.05 | H37: 49.6 | J37: =F37/AVERAGEIFS(F$6:F$103,$B$6:$B$103,$N$2)*100 -> 120.41505 | K37: =G37/AVERAGEIFS(G$6:G$103,$B$6:$B$103,$N$2)*100 -> 111.19419 | L37: =H37/AVERAGEIFS(H$6:H$103,$B$6:$B$103,$N$2)*100 -> 107.90819
A38: 2010 Q1 | B38: 2010 | C38: 49.36 | D38: 62.5 | E38: 47.43 | F38: 46.32 | G38: 51.18 | H38: 50.55 | J38: =F38/AVERAGEIFS(F$6:F$103,$B$6:$B$103,$N$2)*100 -> 115.81448 | K38: =G38/AVERAGEIFS(G$6:G$103,$B$6:$B$103,$N$2)*100 -> 109.33561 | L38: =H38/AVERAGEIFS(H$6:H$103,$B$6:$B$103,$N$2)*100 -> 109.97498
A39: 2010 Q2 | B39: 2010 | C39: 48.68 | D39: 60.46 | E39: 47.47 | F39: 44.56 | G39: 51.78 | H39: 50.53 | J39: =F39/AVERAGEIFS(F$6:F$103,$B$6:$B$103,$N$2)*100 -> 111.41393 | K39: =G39/AVERAGEIFS(G$6:G$103,$B$6:$B$103,$N$2)*100 -> 110.61739 | L39: =H39/AVERAGEIFS(H$6:H$103,$B$6:$B$103,$N$2)*100 -> 109.93147
A40: 2010 Q3 | B40: 2010 | C40: 48.28 | D40: 60.21 | E40: 46.93 | F40: 44.93 | G40: 50.36 | H40: 49.9 | J40: =F40/AVERAGEIFS(F$6:F$103,$B$6:$B$103,$N$2)*100 -> 112.33904 | K40: =G40/AVERAGEIFS(G$6:G$103,$B$6:$B$103,$N$2)*100 -> 107.58385 | L40: =H40/AVERAGEIFS(H$6:H$103,$B$6:$B$103,$N$2)*100 -> 108.56086
... A103: 2026 Q2 | B103: 2026 | C103: 111.24 | D103: 107.13 | E103: 112.84 | F103: 113.53 | G103: 108.46 | H103: 113.34 | J103: =F103/AVERAGEIFS(F$6:F$103,$B$6:$B$103,$N$2)*100 -> 283.86048 | K103: =G103/AVERAGEIFS(G$6:G$103,$B$6:$B$103,$N$2)*100 -> 231.70263 | L103: =H103/AVERAGEIFS(H$6:H$103,$B$6:$B$103,$N$2)*100 -> 246.57892

Sheet Slika 3
A1: Tabela 1.4 Indeksi cijena stambenih objekata, po tromjesečjima | CW1: Slika 3
CW2: Godišnje stope rasta cijena stambenih nekretnina
B3: godišnje stope promjene, % (isto tromjesečje prethodne godine = 100) | CW3: Izvor: DZS (ME_PS14) · obrada: Ekonomski lab / Arhivanalitika
B4: 2002Q1 | C4: 2002Q2 | D4: 2002Q3 | E4: 2002Q4 | F4: 2003Q1 | G4: 2003Q2 | H4: 2003Q3 | I4: 2003Q4 | J4: 2004Q1 | K4: 2004Q2 | L4: 2004Q3 | M4: 2004Q4 | N4: 2005Q1 | O4: 2005Q2 | P4: 2005Q3 | Q4: 2005Q4 | R4: 2006Q1 | S4: 2006Q2 | T4: 2006Q3 | U4: 2006Q4 | V4: 2007Q1 | W4: 2007Q2 | X4: 2007Q3 | Y4: 2007Q4 | Z4: 2008Q1 | AA4: 2008Q2 | AB4: 2008Q3 | AC4: 2008Q4 | AD4: 2009Q1 | AE4: 2009Q2 | AF4: 2009Q3 | AG4: 2009Q4 | AH4: 2010Q1 | AI4: 2010Q2 | AJ4: 2010Q3 | AK4: 2010Q4 | AL4: 2011Q1 | AM4: 2011Q2 | AN4: 2011Q3 | AO4: 2011Q4 | AP4: 2012Q1 | AQ4: 2012Q2 | AR4: 2012Q3 | AS4: 2012Q4 | AT4: 2013Q1 | AU4: 2013Q2 | AV4: 2013Q3 | AW4: 2013Q4 | AX4: 2014Q1 | AY4: 2014Q2 | AZ4: 2014Q3 | BA4: 2014Q4 | BB4: 2015Q1 | BC4: 2015Q2 | BD4: 2015Q3 | BE4: 2015Q4 | BF4: 2016Q1 | BG4: 2016Q2 | BH4: 2016Q3 | BI4: 2016Q4 | BJ4: 2017Q1 | BK4: 2017Q2 | BL4: 2017Q3 | BM4: 2017Q4 | BN4: 2018Q1 | BO4: 2018Q2 | BP4: 2018Q3 | BQ4: 2018Q4 | BR4: 2019Q1 | BS4: 2019Q2 | BT4: 2019Q3 | BU4: 2019Q4 | BV4: 2020Q1 | BW4: 2020Q2 | BX4: 2020Q3 | BY4: 2020Q4 | BZ4: 2021Q1 | CA4: 2021Q2 | CB4: 2021Q3 | CC4: 2021Q4 | CD4: 2022Q1 | CE4: 2022Q2 | CF4: 2022Q3 | CG4: 2022Q4 | CH4: 2023Q1 | CI4: 2023Q2 | CJ4: 2023Q3 | CK4: 2023Q4 | CL4: 2024Q1 | CM4: 2024Q2 | CN4: 2024Q3 | CO4: 2024Q4 | CP4: 2025Q1 | CQ4: 2025Q2 | CR4: 2025Q3 | CS4: 2025Q4 | CT4: 2026Q1 | CU4: 2026Q2
A5: Indeks cijena stambenih objekata - ukupno | B5: - | C5: - | D5: - | E5: - | F5: 14.4 | G5: 19.1 | H5: 13.9 | I5: 20.9 | J5: 13.2 | K5: 13.7 | L5: 16.5 | M5: 15.8 | N5: 13.6 | O5: 14.6 | P5: 12.5 | Q5: 11.3 | R5: 15.7 | S5: 12.7 | T5: 13.5 | U5: 15.3 | V5: 14.2 | W5: 17.1 | X5: 16.2 | Y5: 8.4 | Z5: 4.1 | AA5: 0.7 | AB5: 0.9 | AC5: -1.2 | AD5: -0.6 | AE5: -4.6 | AF5: -8.1 | AG5: -7.2 | AH5: -8.7 | AI5: -6.7 | AJ5: -5.7 | AK5: -4 | AL5: -2.9 | AM5: -0.1 | AN5: 1.4 | AO5: 1.9 | AP5: 2.2 | AQ5: -0.7 | AR5: -2.1 | AS5: -5.8 | AT5: -5.6 | AU5: -4.7 | AV5: -3.9 | AW5: -1.8 | AX5: -2 | AY5: -0.7 | AZ5: -1.8 | BA5: -1.5 | BB5: -1.8 | BC5: -4.4 | BD5: -2.9 | BE5: -2 | BF5: 0.2 | BG5: 1.3 | BH5: 1.7 | BI5: 1 | BJ5: -0.2 | BK5: 4.2 | BL5: 3.8 | BM5: 7.7 | BN5: 8.7 | BO5: 4.9 | BP5: 7.4 | BQ5: 5.1 | BR5: 7.9 | BS5: 10.2 | BT5: 7.7 | BU5: 9.4 | BV5: 8.4 | BW5: 7.9 | BX5: 6.8 | BY5: 6.3 | BZ5: 4.8 | CA5: 6.6 | CB5: 9 | CC5: 9.5 | CD5: 13.7 | CE5: 13.7 | CF5: 14.8 | CG5: 17 | CH5: 13.9 | CI5: 13.9 | CJ5: 10.9 | CK5: 9.8 | CL5: 8.9 | CM5: 10 | CN5: 12.7 | CO5: 10 | CP5: 13.3 | CQ5: 12.8 | CR5: 13.3 | CS5: 15.9 | CT5: 14.3 | CU5: 12.7
A6: Novi stambeni objekti | B6: - | C6: - | D6: - | E6: - | F6: - | G6: - | H6: - | I6: - | J6: - | K6: - | L6: - | M6: - | N6: - | O6: - | P6: - | Q6: - | R6: - | S6: - | T6: - | U6: - | V6: - | W6: - | X6: - | Y6: - | Z6: - | AA6: - | AB6: - | AC6: -1.5 | AD6: 1.6 | AE6: -1.2 | AF6: -4.2 | AG6: -4.8 | AH6: -7.9 | AI6: -9.8 | AJ6: -9.1 | AK6: -4.4 | AL6: -4.1 | AM6: 2.4 | AN6: 3.8 | AO6: 5 | AP6: 5.6 | AQ6: 0.9 | AR6: -1 | AS6: -6.3 | AT6: -4 | AU6: -5.2 | AV6: -3.3 | AW6: -1.3 | AX6: -4.9 | AY6: -1.7 | AZ6: -1 | BA6: -0.4 | BB6: -4.1 | BC6: -7 | BD6: -6.5 | BE6: -7.1 | BF6: -2.3 | BG6: -2.7 | BH6: -4.3 | BI6: -5 | BJ6: -6.4 | BK6: 0.3 | BL6: 1.1 | BM6: 4.6 | BN6: 6.7 | BO6: 2.2 | BP6: 3.5 | BQ6: 2.4 | BR6: 9.9 | BS6: 7.6 | BT6: 7.7 | BU6: 7 | BV6: -1 | BW6: 4.5 | BX6: 1.5 | BY6: 0.3 | BZ6: 5.4 | CA6: 6.6 | CB6: 8.5 | CC6: 14.3 | CD6: 20.3 | CE6: 15.3 | CF6: 16.6 | CG6: 16.1 | CH6: 8 | CI6: 12.2 | CJ6: 13 | CK6: 4.1 | CL6: 4.4 | CM6: 6.6 | CN6: 4.7 | CO6: 10.6 | CP6: 15.1 | CQ6: 9.7 | CR6: 11.4 | CS6: 14.5 | CT6: 9.7 | CU6: 9.2
A7: Postojeći stambeni objekti | B7: - | C7: - | D7: - | E7: - | F7: - | G7: - | H7: - | I7: - | J7: - | K7: - | L7: - | M7: - | N7: - | O7: - | P7: - | Q7: - | R7: - | S7: - | T7: - | U7: - | V7: - | W7: - | X7: - | Y7: - | Z7: - | AA7: - | AB7: - | AC7: -1.1 | AD7: -1.8 | AE7: -6.6 | AF7: -10.3 | AG7: -8.6 | AH7: -9.2 | AI7: -4.6 | AJ7: -3.5 | AK7: -3.7 | AL7: -2 | AM7: -1.8 | AN7: -0.1 | AO7: -0.1 | AP7: 0 | AQ7: -1.7 | AR7: -2.8 | AS7: -5.6 | AT7: -6.3 | AU7: -4.4 | AV7: -4.2 | AW7: -2 | AX7: -0.7 | AY7: -0.4 | AZ7: -2 | BA7: -1.9 | BB7: -0.8 | BC7: -3.4 | BD7: -1.5 | BE7: 0.1 | BF7: 0.6 | BG7: 1.9 | BH7: 2.9 | BI7: 1.8 | BJ7: 0.7 | BK7: 4.8 | BL7: 4.3 | BM7: 8.3 | BN7: 9.1 | BO7: 5.4 | BP7: 8.1 | BQ7: 5.6 | BR7: 7.6 | BS7: 10.7 | BT7: 7.7 | BU7: 9.8 | BV7: 10.2 | BW7: 8.5 | BX7: 7.8 | BY7: 7.5 | BZ7: 4.6 | CA7: 6.5 | CB7: 9 | CC7: 8.5 | CD7: 12.4 | CE7: 13.4 | CF7: 14.4 | CG7: 17.1 | CH7: 15.2 | CI7: 14.3 | CJ7: 10.4 | CK7: 10.9 | CL7: 9.8 | CM7: 10.5 | CN7: 14.3 | CO7: 9.9 | CP7: 12.6 | CQ7: 13.8 | CR7: 14 | CS7: 16.4 | CT7: 16.1 | CU7: 14.1
A8: Grad Zagreb | B8: - | C8: - | D8: - | E8: - | F8: 13.5 | G8: 17.2 | H8: 10.2 | I8: 19.8 | J8: 14.4 | K8: 15.5 | L8: 19 | M8: 15.1 | N8: 12.6 | O8: 14.1 | P8: 13.3 | Q8: 9.7 | R8: 17.2 | S8: 8.9 | T8: 8.1 | U8: 16.2 | V8: 12.7 | W8: 20.8 | X8: 18.4 | Y8: 7.6 | Z8: 3 | AA8: -0.7 | AB8: -0.7 | AC8: -3.7 | AD8: -3.2 | AE8: -7.3 | AF8: -10.4 | AG8: -7.3 | AH8: -10.6 | AI8: -10.4 | AJ8: -6.8 | AK8: -7.4 | AL8: -4.6 | AM8: 0.2 | AN8: 0.7 | AO8: 2 | AP8: 2 | AQ8: -1 | AR8: -3.1 | AS8: -5.6 | AT8: -6.6 | AU8: -6.7 | AV8: -5.8 | AW8: -4.7 | AX8: -3.1 | AY8: -1 | AZ8: -1.1 | BA8: -0.3 | BB8: -0.4 | BC8: -2.4 | BD8: -2.2 | BE8: -3.3 | BF8: -1 | BG8: 0.2 | BH8: 2.2 | BI8: 2.1 | BJ8: 0.4 | BK8: 2.9 | BL8: 4.4 | BM8: 9.8 | BN8: 11.2 | BO8: 11.4 | BP8: 11.7 | BQ8: 8.2 | BR8: 11.2 | BS8: 14.2 | BT8: 12.1 | BU8: 14.3 | BV8: 12.5 | BW8: 8.7 | BX8: 5.7 | BY8: 5.9 | BZ8: 3.2 | CA8: 7.3 | CB8: 9.5 | CC8: 9.6 | CD8: 16.7 | CE8: 15.2 | CF8: 18.4 | CG8: 22.4 | CH8: 14.4 | CI8: 14.1 | CJ8: 12 | CK8: 6.3 | CL8: 8.8 | CM8: 9.1 | CN8: 7.5 | CO8: 9.5 | CP8: 12.8 | CQ8: 12.2 | CR8: 16.6 | CS8: 14.8 | CT8: 14.7 | CU8: 15.7
A9: Jadran | B9: - | C9: - | D9: - | E9: - | F9: 15.7 | G9: 25.3 | H9: 21.5 | I9: 26.2 | J9: 15.5 | K9: 14.2 | L9: 14.5 | M9: 18 | N9: 16.8 | O9: 15.3 | P9: 12.4 | Q9: 12.6 | R9: 14.2 | S9: 15.7 | T9: 19.2 | U9: 16.7 | V9: 16.7 | W9: 17.2 | X9: 17.5 | Y9: 10.6 | Z9: 6.6 | AA9: 3.1 | AB9: 4.4 | AC9: 2.5 | AD9: 2 | AE9: -2.5 | AF9: -6.7 | AG9: -6.5 | AH9: -6.7 | AI9: -3.3 | AJ9: -5.4 | AK9: -1.6 | AL9: -1 | AM9: 0.3 | AN9: 3.3 | AO9: 2 | AP9: 2.5 | AQ9: -1.3 | AR9: -2 | AS9: -6.5 | AT9: -5 | AU9: -4.2 | AV9: -2.2 | AW9: -0.5 | AX9: -2.1 | AY9: -0.4 | AZ9: -3.9 | BA9: -1.3 | BB9: -2.1 | BC9: -5.8 | BD9: -2.4 | BE9: -2 | BF9: 0.6 | BG9: 2 | BH9: 2.1 | BI9: 1 | BJ9: 0.7 | BK9: 6.2 | BL9: 3.6 | BM9: 7.4 | BN9: 8.2 | BO9: 2.6 | BP9: 6.5 | BQ9: 4.5 | BR9: 7.5 | BS9: 9.1 | BT9: 5.3 | BU9: 6.1 | BV9: 5.3 | BW9: 5.8 | BX9: 7.3 | BY9: 5.8 | BZ9: 6.3 | CA9: 6.7 | CB9: 9.2 | CC9: 12 | CD9: 11.4 | CE9: 12.8 | CF9: 12.9 | CG9: 13 | CH9: 12.7 | CI9: 12.7 | CJ9: 8.3 | CK9: 11 | CL9: 8.5 | CM9: 11 | CN9: 15.7 | CO9: 9.2 | CP9: 12 | CQ9: 11.6 | CR9: 9.4 | CS9: 14.4 | CT9: 12.6 | CU9: 9
A10: Ostalo | B10: - | C10: - | D10: - | E10: - | F10: 14.3 | G10: 11.5 | H10: 9.7 | I10: 12.6 | J10: 3.2 | K10: 5.5 | L10: 12.5 | M10: 12.6 | N10: 9.2 | O10: 15.2 | P10: 11.9 | Q10: 12.4 | R10: 15.7 | S10: 15.5 | T10: 13.9 | U10: 9.7 | V10: 12.3 | W10: 7.9 | X10: 8.9 | Y10: 5.9 | Z10: 2 | AA10: 0 | AB10: -1.4 | AC10: -1.9 | AD10: 1.1 | AE10: -1.8 | AF10: -4.7 | AG10: -8.4 | AH10: -7.7 | AI10: -3.9 | AJ10: -3.9 | AK10: 0.2 | AL10: -2 | AM10: -1.9 | AN10: -0.1 | AO10: 1.6 | AP10: 1.7 | AQ10: 0.9 | AR10: -0.1 | AS10: -4.8 | AT10: -5.6 | AU10: -3.3 | AV10: -5.9 | AW10: -0.2 | AX10: -0.1 | AY10: -1.4 | AZ10: 3.2 | BA10: -4.7 | BB10: -2.9 | BC10: -3.1 | BD10: -5.8 | BE10: 0.8 | BF10: 0.4 | BG10: 0.6 | BH10: -1.1 | BI10: -1.2 | BJ10: -4.5 | BK10: 0.6 | BL10: 2.9 | BM10: 4.2 | BN10: 4.5 | BO10: -2 | BP10: 0.2 | BQ10: -0.3 | BR10: 1 | BS10: 3.5 | BT10: 3.5 | BU10: 7.3 | BV10: 8.4 | BW10: 13 | BX10: 8.7 | BY10: 8.8 | BZ10: 5.7 | CA10: 5.4 | CB10: 8.1 | CC10: 3.7 | CD10: 13.9 | CE10: 14.8 | CF10: 13.3 | CG10: 17.4 | CH10: 16.5 | CI10: 17.5 | CJ10: 16.8 | CK10: 14.2 | CL10: 10.3 | CM10: 8.8 | CN10: 16.2 | CO10: 13.7 | CP10: 18.8 | CQ10: 18.4 | CR10: 16.9 | CS10: 23.4 | CT10: 18.1 | CU10: 15.8
A12: Podaci za drugo tromjesečje 2026. privremeni su. Stope promjena izračunane su iz indeksa 2025. = 100. S objavom podataka za prvo tromjesečje 2026. objavljeni su i revidirani podaci za razdoblje od prvog tromjesečja 2002. do četvrtog tromjesečja 2025. za indeks cijena stambenih objekata. Revizija je provedena na temelju Eurostatova izvještaja o usklađenosti kako bi se postigla potpuna usklađenost s člankom 5. Provedbene uredbe Komisije (EU) 2023/1470 od 17. srpnja 2023.
A13: Tromjesečje:
A14: 2026Q2:
A15: privremeni podatak
A18: Zadnja obnova:
A19: 20261001 11:00
A21: Izvor:
A22: Državni zavod za statistiku Republike Hrvatske
A24: Kontakt:
A25: Služba statistike cijena i europskog programa usporedbe
A27: Jasminka Stančić
A28: tel. +385 1 4806-260,
... A55: ME_PS14

Sheet Slika 4
A1: Indeks cijena stambenih nekretnina (DZS) – podaci za sliku | N1: Bazna godina za grafikon | S1: Slika 4
A2: Izvor: DZS, PC-Axis baza Cijene, Tabela 1.4 Indeksi cijena stambenih objekata, po tromjesečjima (ME_PS14), indeksi 2025. = 100; preuzeto 5. 10. 2026. https://web.dzs.hr/PXWeb/Menu.aspx?px_language=hr&px_type=PX&px_db=Cijene | N2: 2015 | S2: Indeks cijena stambenih nekretnina: novi vs. postojeći objekti (2015. = 100)
A3: Podaci za 2026. Q2 privremeni su (DZS, priopćenje CIJ-2026-2-1/2, 1. 10. 2026.). Plavo = preuzeti podaci DZS-a; crno = formule. | N3: Promjenom ove ćelije mijenja se baza stupaca J:L (prosjek četiriju tromjesečja = 100). | S3: Izvor: DZS (ME_PS14) · obrada: Ekonomski lab / Arhivanalitika
C4: DZS, indeksi 2025. = 100 | J4: Grafikon: indeksi, bazna godina (N2) = 100 | P4: Grafikon Slike 4: bazna godina (N2) = 100
A5: Tromjesečje | B5: Godina | C5: Ukupno RH | D5: Novi stambeni objekti | E5: Postojeći stambeni objekti | F5: Grad Zagreb | G5: Jadran | H5: Ostalo | J5: Grad Zagreb | K5: Jadran | L5: Ostalo | P5: Novi stambeni objekti | Q5: Postojeći stambeni objekti
A6: 2002 Q1 | B6: 2002 | C6: 26.85 | F6: 26.88 | G6: 24.25 | H6: 31.73 | J6: =F6/AVERAGEIFS(F$6:F$103,$B$6:$B$103,$N$2)*100 -> 67.208401 | K6: =G6/AVERAGEIFS(G$6:G$103,$B$6:$B$103,$N$2)*100 -> 51.80517 | L6: =H6/AVERAGEIFS(H$6:H$103,$B$6:$B$103,$N$2)*100 -> 69.030784 | P6: =IF(D6="","",D6/AVERAGEIFS(D$6:D$103,$B$6:$B$103,$N$2)*100) | Q6: =IF(E6="","",E6/AVERAGEIFS(E$6:E$103,$B$6:$B$103,$N$2)*100)
A7: 2002 Q2 | B7: 2002 | C7: 26.54 | F7: 26.6 | G7: 23.81 | H7: 31.72 | J7: =F7/AVERAGEIFS(F$6:F$103,$B$6:$B$103,$N$2)*100 -> 66.508314 | K7: =G7/AVERAGEIFS(G$6:G$103,$B$6:$B$103,$N$2)*100 -> 50.8652 | L7: =H7/AVERAGEIFS(H$6:H$103,$B$6:$B$103,$N$2)*100 -> 69.009029 | P7: =IF(D7="","",D7/AVERAGEIFS(D$6:D$103,$B$6:$B$103,$N$2)*100) | Q7: =IF(E7="","",E7/AVERAGEIFS(E$6:E$103,$B$6:$B$103,$N$2)*100)
A8: 2002 Q3 | B8: 2002 | C8: 28.04 | F8: 28.53 | G8: 24.96 | H8: 32.29 | J8: =F8/AVERAGEIFS(F$6:F$103,$B$6:$B$103,$N$2)*100 -> 71.333917 | K8: =G8/AVERAGEIFS(G$6:G$103,$B$6:$B$103,$N$2)*100 -> 53.32194 | L8: =H8/AVERAGEIFS(H$6:H$103,$B$6:$B$103,$N$2)*100 -> 70.249103 | P8: =IF(D8="","",D8/AVERAGEIFS(D$6:D$103,$B$6:$B$103,$N$2)*100) | Q8: =IF(E8="","",E8/AVERAGEIFS(E$6:E$103,$B$6:$B$103,$N$2)*100)
A9: 2002 Q4 | B9: 2002 | C9: 28.22 | F9: 28.51 | G9: 25.11 | H9: 33.36 | J9: =F9/AVERAGEIFS(F$6:F$103,$B$6:$B$103,$N$2)*100 -> 71.28391 | K9: =G9/AVERAGEIFS(G$6:G$103,$B$6:$B$103,$N$2)*100 -> 53.642384 | L9: =H9/AVERAGEIFS(H$6:H$103,$B$6:$B$103,$N$2)*100 -> 72.576961 | P9: =IF(D9="","",D9/AVERAGEIFS(D$6:D$103,$B$6:$B$103,$N$2)*100) | Q9: =IF(E9="","",E9/AVERAGEIFS(E$6:E$103,$B$6:$B$103,$N$2)*100)
A10: 2003 Q1 | B10: 2003 | C10: 30.71 | F10: 30.52 | G10: 28.06 | H10: 36.27 | J10: =F10/AVERAGEIFS(F$6:F$103,$B$6:$B$103,$N$2)*100 -> 76.309539 | K10: =G10/AVERAGEIFS(G$6:G$103,$B$6:$B$103,$N$2)*100 -> 59.944456 | L10: =H10/AVERAGEIFS(H$6:H$103,$B$6:$B$103,$N$2)*100 -> 78.907865 | P10: =IF(D10="","",D10/AVERAGEIFS(D$6:D$103,$B$6:$B$103,$N$2)*100) | Q10: =IF(E10="","",E10/AVERAGEIFS(E$6:E$103,$B$6:$B$103,$N$2)*100)
A11: 2003 Q2 | B11: 2003 | C11: 31.6 | F11: 31.17 | G11: 29.83 | H11: 35.36 | J11: =F11/AVERAGEIFS(F$6:F$103,$B$6:$B$103,$N$2)*100 -> 77.934742 | K11: =G11/AVERAGEIFS(G$6:G$103,$B$6:$B$103,$N$2)*100 -> 63.7257 | L11: =H11/AVERAGEIFS(H$6:H$103,$B$6:$B$103,$N$2)*100 -> 76.928097 | P11: =IF(D11="","",D11/AVERAGEIFS(D$6:D$103,$B$6:$B$103,$N$2)*100) | Q11: =IF(E11="","",E11/AVERAGEIFS(E$6:E$103,$B$6:$B$103,$N$2)*100)
A12: 2003 Q3 | B12: 2003 | C12: 31.93 | F12: 31.43 | G12: 30.32 | H12: 35.41 | J12: =F12/AVERAGEIFS(F$6:F$103,$B$6:$B$103,$N$2)*100 -> 78.584823 | K12: =G12/AVERAGEIFS(G$6:G$103,$B$6:$B$103,$N$2)*100 -> 64.772485 | L12: =H12/AVERAGEIFS(H$6:H$103,$B$6:$B$103,$N$2)*100 -> 77.036876 | P12: =IF(D12="","",D12/AVERAGEIFS(D$6:D$103,$B$6:$B$103,$N$2)*100) | Q12: =IF(E12="","",E12/AVERAGEIFS(E$6:E$103,$B$6:$B$103,$N$2)*100)
A13: 2003 Q4 | B13: 2003 | C13: 34.11 | F13: 34.16 | G13: 31.68 | H13: 37.55 | J13: =F13/AVERAGEIFS(F$6:F$103,$B$6:$B$103,$N$2)*100 -> 85.410676 | K13: =G13/AVERAGEIFS(G$6:G$103,$B$6:$B$103,$N$2)*100 -> 67.677847 | L13: =H13/AVERAGEIFS(H$6:H$103,$B$6:$B$103,$N$2)*100 -> 81.692592 | P13: =IF(D13="","",D13/AVERAGEIFS(D$6:D$103,$B$6:$B$103,$N$2)*100) | Q13: =IF(E13="","",E13/AVERAGEIFS(E$6:E$103,$B$6:$B$103,$N$2)*100)
A14: 2004 Q1 | B14: 2004 | C14: 34.77 | F14: 34.93 | G14: 32.42 | H14: 37.44 | J14: =F14/AVERAGEIFS(F$6:F$103,$B$6:$B$103,$N$2)*100 -> 87.335917 | K14: =G14/AVERAGEIFS(G$6:G$103,$B$6:$B$103,$N$2)*100 -> 69.258705 | L14: =H14/AVERAGEIFS(H$6:H$103,$B$6:$B$103,$N$2)*100 -> 81.45328 | P14: =IF(D14="","",D14/AVERAGEIFS(D$6:D$103,$B$6:$B$103,$N$2)*100) | Q14: =IF(E14="","",E14/AVERAGEIFS(E$6:E$103,$B$6:$B$103,$N$2)*100)
A15: 2004 Q2 | B15: 2004 | C15: 35.93 | F15: 35.99 | G15: 34.06 | H15: 37.29 | J15: =F15/AVERAGEIFS(F$6:F$103,$B$6:$B$103,$N$2)*100 -> 89.986248 | K15: =G15/AVERAGEIFS(G$6:G$103,$B$6:$B$103,$N$2)*100 -> 72.76223 | L15: =H15/AVERAGEIFS(H$6:H$103,$B$6:$B$103,$N$2)*100 -> 81.126944 | P15: =IF(D15="","",D15/AVERAGEIFS(D$6:D$103,$B$6:$B$103,$N$2)*100) | Q15: =IF(E15="","",E15/AVERAGEIFS(E$6:E$103,$B$6:$B$103,$N$2)*100)
A16: 2004 Q3 | B16: 2004 | C16: 37.2 | F16: 37.4 | G16: 34.72 | H16: 39.83 | J16: =F16/AVERAGEIFS(F$6:F$103,$B$6:$B$103,$N$2)*100 -> 93.511689 | K16: =G16/AVERAGEIFS(G$6:G$103,$B$6:$B$103,$N$2)*100 -> 74.172185 | L16: =H16/AVERAGEIFS(H$6:H$103,$B$6:$B$103,$N$2)*100 -> 86.652888 | P16: =IF(D16="","",D16/AVERAGEIFS(D$6:D$103,$B$6:$B$103,$N$2)*100) | Q16: =IF(E16="","",E16/AVERAGEIFS(E$6:E$103,$B$6:$B$103,$N$2)*100)
A17: 2004 Q4 | B17: 2004 | C17: 39.5 | F17: 39.31 | G17: 37.38 | H17: 42.27 | J17: =F17/AVERAGEIFS(F$6:F$103,$B$6:$B$103,$N$2)*100 -> 98.287286 | K17: =G17/AVERAGEIFS(G$6:G$103,$B$6:$B$103,$N$2)*100 -> 79.854732 | L17: =H17/AVERAGEIFS(H$6:H$103,$B$6:$B$103,$N$2)*100 -> 91.961275 | P17: =IF(D17="","",D17/AVERAGEIFS(D$6:D$103,$B$6:$B$103,$N$2)*100) | Q17: =IF(E17="","",E17/AVERAGEIFS(E$6:E$103,$B$6:$B$103,$N$2)*100)
... A28: 2007 Q3 | B28: 2007 | C28: 55.21 | F28: 54.24 | G28: 54.64 | H28: 55.28 | J28: =F28/AVERAGEIFS(F$6:F$103,$B$6:$B$103,$N$2)*100 -> 135.61695 | K28: =G28/AVERAGEIFS(G$6:G$103,$B$6:$B$103,$N$2)*100 -> 116.7272 | L28: =H28/AVERAGEIFS(H$6:H$103,$B$6:$B$103,$N$2)*100 -> 120.26542 | P28: =IF(D28="","",D28/AVERAGEIFS(D$6:D$103,$B$6:$B$103,$N$2)*100) | Q28: =IF(E28="","",E28/AVERAGEIFS(E$6:E$103,$B$6:$B$103,$N$2)*100)
A29: 2007 Q4 | B29: 2007 | C29: 54.94 | D29: 67.55 | E29: 53.76 | F29: 53.94 | G29: 54.32 | H29: 55.19 | J29: =F29/AVERAGEIFS(F$6:F$103,$B$6:$B$103,$N$2)*100 -> 134.86686 | K29: =G29/AVERAGEIFS(G$6:G$103,$B$6:$B$103,$N$2)*100 -> 116.04358 | L29: =H29/AVERAGEIFS(H$6:H$103,$B$6:$B$103,$N$2)*100 -> 120.06962 | P29: =IF(D29="","",D29/AVERAGEIFS(D$6:D$103,$B$6:$B$103,$N$2)*100) -> 123.13161 | Q29: =IF(E29="","",E29/AVERAGEIFS(E$6:E$103,$B$6:$B$103,$N$2)*100) -> 126.79993
A30: 2008 Q1 | B30: 2008 | C30: 54.38 | D30: 66.85 | E30: 53.22 | F30: 53.56 | G30: 53.78 | H30: 54.18 | J30: =F30/AVERAGEIFS(F$6:F$103,$B$6:$B$103,$N$2)*100 -> 133.91674 | K30: =G30/AVERAGEIFS(G$6:G$103,$B$6:$B$103,$N$2)*100 -> 114.88998 | L30: =H30/AVERAGEIFS(H$6:H$103,$B$6:$B$103,$N$2)*100 -> 117.87229 | P30: =IF(D30="","",D30/AVERAGEIFS(D$6:D$103,$B$6:$B$103,$N$2)*100) -> 121.85563 | Q30: =IF(E30="","",E30/AVERAGEIFS(E$6:E$103,$B$6:$B$103,$N$2)*100) -> 125.52627
A31: 2008 Q2 | B31: 2008 | C31: 54.7 | D31: 67.85 | E31: 53.25 | F31: 53.65 | G31: 54.91 | H31: 53.53 | J31: =F31/AVERAGEIFS(F$6:F$103,$B$6:$B$103,$N$2)*100 -> 134.14177 | K31: =G31/AVERAGEIFS(G$6:G$103,$B$6:$B$103,$N$2)*100 -> 117.30399 | L31: =H31/AVERAGEIFS(H$6:H$103,$B$6:$B$103,$N$2)*100 -> 116.45817 | P31: =IF(D31="","",D31/AVERAGEIFS(D$6:D$103,$B$6:$B$103,$N$2)*100) -> 123.67845 | Q31: =IF(E31="","",E31/AVERAGEIFS(E$6:E$103,$B$6:$B$103,$N$2)*100) -> 125.59703
A32: 2008 Q3 | B32: 2008 | C32: 55.71 | D32: 69.18 | E32: 54.21 | F32: 53.84 | G32: 57.04 | H32: 54.48 | J32: =F32/AVERAGEIFS(F$6:F$103,$B$6:$B$103,$N$2)*100 -> 134.61683 | K32: =G32/AVERAGEIFS(G$6:G$103,$B$6:$B$103,$N$2)*100 -> 121.8543 | L32: =H32/AVERAGEIFS(H$6:H$103,$B$6:$B$103,$N$2)*100 -> 118.52496 | P32: =IF(D32="","",D32/AVERAGEIFS(D$6:D$103,$B$6:$B$103,$N$2)*100) -> 126.10281 | Q32: =IF(E32="","",E32/AVERAGEIFS(E$6:E$103,$B$6:$B$103,$N$2)*100) -> 127.86131
A33: 2008 Q4 | B33: 2008 | C33: 54.26 | D33: 66.57 | E33: 53.17 | F33: 51.93 | G33: 55.67 | H33: 54.15 | J33: =F33/AVERAGEIFS(F$6:F$103,$B$6:$B$103,$N$2)*100 -> 129.84123 | K33: =G33/AVERAGEIFS(G$6:G$103,$B$6:$B$103,$N$2)*100 -> 118.92758 | L33: =H33/AVERAGEIFS(H$6:H$103,$B$6:$B$103,$N$2)*100 -> 117.80703 | P33: =IF(D33="","",D33/AVERAGEIFS(D$6:D$103,$B$6:$B$103,$N$2)*100) -> 121.34524 | Q33: =IF(E33="","",E33/AVERAGEIFS(E$6:E$103,$B$6:$B$103,$N$2)*100) -> 125.40834
A34: 2009 Q1 | B34: 2009 | C34: 54.05 | D34: 67.89 | E34: 52.24 | F34: 51.82 | G34: 54.86 | H34: 54.77 | J34: =F34/AVERAGEIFS(F$6:F$103,$B$6:$B$103,$N$2)*100 -> 129.5662 | K34: =G34/AVERAGEIFS(G$6:G$103,$B$6:$B$103,$N$2)*100 -> 117.19718 | L34: =H34/AVERAGEIFS(H$6:H$103,$B$6:$B$103,$N$2)*100 -> 119.15588 | P34: =IF(D34="","",D34/AVERAGEIFS(D$6:D$103,$B$6:$B$103,$N$2)*100) -> 123.75137 | Q34: =IF(E34="","",E34/AVERAGEIFS(E$6:E$103,$B$6:$B$103,$N$2)*100) -> 123.21481
A35: 2009 Q2 | B35: 2009 | C35: 52.17 | D35: 67.02 | E35: 49.75 | F35: 49.72 | G35: 53.54 | H35: 52.58 | J35: =F35/AVERAGEIFS(F$6:F$103,$B$6:$B$103,$N$2)*100 -> 124.31554 | K35: =G35/AVERAGEIFS(G$6:G$103,$B$6:$B$103,$N$2)*100 -> 114.37727 | L35: =H35/AVERAGEIFS(H$6:H$103,$B$6:$B$103,$N$2)*100 -> 114.39138 | P35: =IF(D35="","",D35/AVERAGEIFS(D$6:D$103,$B$6:$B$103,$N$2)*100) -> 122.16551 | Q35: =IF(E35="","",E35/AVERAGEIFS(E$6:E$103,$B$6:$B$103,$N$2)*100) -> 117.34182
A36: 2009 Q3 | B36: 2009 | C36: 51.22 | D36: 66.25 | E36: 48.64 | F36: 48.23 | G36: 53.23 | H36: 51.9 | J36: =F36/AVERAGEIFS(F$6:F$103,$B$6:$B$103,$N$2)*100 -> 120.59007 | K36: =G36/AVERAGEIFS(G$6:G$103,$B$6:$B$103,$N$2)*100 -> 113.71502 | L36: =H36/AVERAGEIFS(H$6:H$103,$B$6:$B$103,$N$2)*100 -> 112.912 | P36: =IF(D36="","",D36/AVERAGEIFS(D$6:D$103,$B$6:$B$103,$N$2)*100) -> 120.76194 | Q36: =IF(E36="","",E36/AVERAGEIFS(E$6:E$103,$B$6:$B$103,$N$2)*100) -> 114.72375
A37: 2009 Q4 | B37: 2009 | C37: 50.35 | D37: 63.39 | E37: 48.6 | F37: 48.16 | G37: 52.05 | H37: 49.6 | J37: =F37/AVERAGEIFS(F$6:F$103,$B$6:$B$103,$N$2)*100 -> 120.41505 | K37: =G37/AVERAGEIFS(G$6:G$103,$B$6:$B$103,$N$2)*100 -> 111.19419 | L37: =H37/AVERAGEIFS(H$6:H$103,$B$6:$B$103,$N$2)*100 -> 107.90819 | P37: =IF(D37="","",D37/AVERAGEIFS(D$6:D$103,$B$6:$B$103,$N$2)*100) -> 115.54867 | Q37: =IF(E37="","",E37/AVERAGEIFS(E$6:E$103,$B$6:$B$103,$N$2)*100) -> 114.6294
A38: 2010 Q1 | B38: 2010 | C38: 49.36 | D38: 62.5 | E38: 47.43 | F38: 46.32 | G38: 51.18 | H38: 50.55 | J38: =F38/AVERAGEIFS(F$6:F$103,$B$6:$B$103,$N$2)*100 -> 115.81448 | K38: =G38/AVERAGEIFS(G$6:G$103,$B$6:$B$103,$N$2)*100 -> 109.33561 | L38: =H38/AVERAGEIFS(H$6:H$103,$B$6:$B$103,$N$2)*100 -> 109.97498 | P38: =IF(D38="","",D38/AVERAGEIFS(D$6:D$103,$B$6:$B$103,$N$2)*100) -> 113.92636 | Q38: =IF(E38="","",E38/AVERAGEIFS(E$6:E$103,$B$6:$B$103,$N$2)*100) -> 111.8698
A39: 2010 Q2 | B39: 2010 | C39: 48.68 | D39: 60.46 | E39: 47.47 | F39: 44.56 | G39: 51.78 | H39: 50.53 | J39: =F39/AVERAGEIFS(F$6:F$103,$B$6:$B$103,$N$2)*100 -> 111.41393 | K39: =G39/AVERAGEIFS(G$6:G$103,$B$6:$B$103,$N$2)*100 -> 110.61739 | L39: =H39/AVERAGEIFS(H$6:H$103,$B$6:$B$103,$N$2)*100 -> 109.93147 | P39: =IF(D39="","",D39/AVERAGEIFS(D$6:D$103,$B$6:$B$103,$N$2)*100) -> 110.2078 | Q39: =IF(E39="","",E39/AVERAGEIFS(E$6:E$103,$B$6:$B$103,$N$2)*100) -> 111.96415
A40: 2010 Q3 | B40: 2010 | C40: 48.28 | D40: 60.21 | E40: 46.93 | F40: 44.93 | G40: 50.36 | H40: 49.9 | J40: =F40/AVERAGEIFS(F$6:F$103,$B$6:$B$103,$N$2)*100 -> 112.33904 | K40: =G40/AVERAGEIFS(G$6:G$103,$B$6:$B$103,$N$2)*100 -> 107.58385 | L40: =H40/AVERAGEIFS(H$6:H$103,$B$6:$B$103,$N$2)*100 -> 108.56086 | P40: =IF(D40="","",D40/AVERAGEIFS(D$6:D$103,$B$6:$B$103,$N$2)*100) -> 109.7521 | Q40: =IF(E40="","",E40/AVERAGEIFS(E$6:E$103,$B$6:$B$103,$N$2)*100) -> 110.69049
... A103: 2026 Q2 | B103: 2026 | C103: 111.24 | D103: 107.13 | E103: 112.84 | F103: 113.53 | G103: 108.46 | H103: 113.34 | J103: =F103/AVERAGEIFS(F$6:F$103,$B$6:$B$103,$N$2)*100 -> 283.86048 | K103: =G103/AVERAGEIFS(G$6:G$103,$B$6:$B$103,$N$2)*100 -> 231.70263 | L103: =H103/AVERAGEIFS(H$6:H$103,$B$6:$B$103,$N$2)*100 -> 246.57892 | P103: =IF(D103="","",D103/AVERAGEIFS(D$6:D$103,$B$6:$B$103,$N$2)*100) -> 195.27889 | Q103: =IF(E103="","",E103/AVERAGEIFS(E$6:E$103,$B$6:$B$103,$N$2)*100) -> 266.14777

Sheet Slika 5
A1: Tabela 1.7 Broj prodanih stambenih objekata, po godinama | P1: Slika 5
P2: Broj prodanih stambenih objekata: godišnje stope promjene
A3: Prosječne godišnje stope promjene, % (prethodna godina = 100) | F3: Prosječni godišnji indeksi (2025. = 100) | K3: Prosječni godišnji indeksi (2015. = 100) | P3: Izvor: DZS (ME_PS17) · obrada: Ekonomski lab / Arhivanalitika
A4: Godina | B4: Ukupno | C4: Novi stambeni objekti | D4: Postojeći stambeni objekti | F4: Godina | G4: Ukupno | H4: Novi stambeni objekti | I4: Postojeći stambeni objekti | K4: Godina | L4: Ukupno | M4: Novi stambeni objekti | N4: Postojeći stambeni objekti
A5: 2008 | B5: - | C5: - | D5: - | F5: 2008 | G5: 129.35 | H5: 125.96 | I5: 130.79 | K5: =F5 -> 2008 | L5: =G5/G$12*100 -> 159.53379 | M5: =H5/H$12*100 -> 324.9742 | N5: =I5/I$12*100 -> 131.89794
A6: 2009 | B6: -24.8 | C6: -7.6 | D6: -31.8 | F6: 2009 | G6: 97.29 | H6: 116.34 | I6: 89.15 | K6: =F6 -> 2009 | L6: =G6/G$12*100 -> 119.9926 | M6: =H6/H$12*100 -> 300.1548 | N6: =I6/I$12*100 -> 89.905204
A7: 2010 | B7: -4 | C7: -11.3 | D7: 0 | F7: 2010 | G7: 93.36 | H7: 103.24 | I7: 89.14 | K7: =F7 -> 2010 | L7: =G7/G$12*100 -> 115.14554 | M7: =H7/H$12*100 -> 266.35707 | N7: =I7/I$12*100 -> 89.895119
A8: 2011 | B8: 4.3 | C8: -4.9 | D8: 8.9 | F8: 2011 | G8: 97.41 | H8: 98.23 | I8: 97.06 | K8: =F8 -> 2011 | L8: =G8/G$12*100 -> 120.1406 | M8: =H8/H$12*100 -> 253.43137 | N8: =I8/I$12*100 -> 97.882211
A9: 2012 | B9: -1.2 | C9: 17.4 | D9: -9.2 | F9: 2012 | G9: 96.28 | H9: 115.31 | I9: 88.16 | K9: =F9 -> 2012 | L9: =G9/G$12*100 -> 118.74692 | M9: =H9/H$12*100 -> 297.49742 | N9: =I9/I$12*100 -> 88.906817
A10: 2013 | B10: -6.3 | C10: -17.2 | D10: -0.2 | F10: 2013 | G10: 90.22 | H10: 95.45 | I10: 87.99 | K10: =F10 -> 2013 | L10: =G10/G$12*100 -> 111.27282 | M10: =H10/H$12*100 -> 246.25903 | N10: =I10/I$12*100 -> 88.735377
A11: 2014 | B11: -2.6 | C11: -8.6 | D11: 0.2 | F11: 2014 | G11: 87.87 | H11: 87.28 | I11: 88.13 | K11: =F11 -> 2014 | L11: =G11/G$12*100 -> 108.37444 | M11: =H11/H$12*100 -> 225.1806 | N11: =I11/I$12*100 -> 88.876563
A12: 2015 | B12: -7.7 | C12: -55.6 | D12: 12.5 | F12: 2015 | G12: 81.08 | H12: 38.76 | I12: 99.16 | K12: =F12 -> 2015 | L12: =G12/G$12*100 -> 100 | M12: =H12/H$12*100 -> 100 | N12: =I12/I$12*100 -> 100
A13: 2016 | B13: 28.9 | C13: 30.5 | D13: 28.6 | F13: 2016 | G13: 104.48 | H13: 50.58 | I13: 127.5 | K13: =F13 -> 2016 | L13: =G13/G$12*100 -> 128.86038 | M13: =H13/H$12*100 -> 130.49536 | N13: =I13/I$12*100 -> 128.58007
A14: 2017 | B14: 1.4 | C14: 17.7 | D14: -1.4 | F14: 2017 | G14: 105.92 | H14: 59.56 | I14: 125.72 | K14: =F14 -> 2017 | L14: =G14/G$12*100 -> 130.63641 | M14: =H14/H$12*100 -> 153.66357 | N14: =I14/I$12*100 -> 126.78499
A15: 2018 | B15: 6.8 | C15: 5 | D15: 7.2 | F15: 2018 | G15: 113.15 | H15: 62.52 | I15: 134.77 | K15: =F15 -> 2018 | L15: =G15/G$12*100 -> 139.55353 | M15: =H15/H$12*100 -> 161.30031 | N15: =I15/I$12*100 -> 135.91166
A16: 2019 | B16: 11.6 | C16: 19.7 | D16: 10 | F16: 2019 | G16: 126.26 | H16: 74.81 | I16: 148.24 | K16: =F16 -> 2019 | L16: =G16/G$12*100 -> 155.72274 | M16: =H16/H$12*100 -> 193.00826 | N16: =I16/I$12*100 -> 149.49576
A17: 2020 | B17: -7.8 | C17: 19.7 | D17: -13.7 | F17: 2020 | G17: 116.44 | H17: 89.55 | I17: 127.92 | K17: =F17 -> 2020 | L17: =G17/G$12*100 -> 143.61125 | M17: =H17/H$12*100 -> 231.03715 | N17: =I17/I$12*100 -> 129.00363
... A22: 2025 | B22: -4.1 | C22: 4.1 | D22: -7.2 | F22: 2025 | G22: 100 | H22: 100 | I22: 100 | K22: =F22 -> 2025 | L22: =G22/G$12*100 -> 123.33498 | M22: =H22/H$12*100 -> 257.99794 | N22: =I22/I$12*100 -> 100.84712

Sheet Slika 5 · Metapodaci
A1: Zadnja obnova:
A2: 20260702 11:00
A4: Izvor:
A5: Državni zavod za statistiku Republike Hrvatske
A7: Kontakt:
A8: Služba statistike cijena i europskog programa usporedbe
A10: Jasminka Stančić
A11: tel. +385 1 4806-260,
A12: e-mail: stancicj@dzs.hr
A14: Silvija Đerek
A15: tel. +385 1 8888-627,
A16: e-mail: dereks@dzs.hr
... A38: ME_PS17

Sheet Slika 6
A1: Tabela 1.7 Broj prodanih stambenih objekata, po godinama | P1: Slika 6
P2: Broj prodanih stambenih objekata (2015. = 100)
A3: Prosječne godišnje stope promjene, % (prethodna godina = 100) | F3: Prosječni godišnji indeksi (2025. = 100) | K3: Prosječni godišnji indeksi (2015. = 100) | P3: Izvor: DZS (ME_PS17) · obrada: Ekonomski lab / Arhivanalitika
A4: Godina | B4: Ukupno | C4: Novi stambeni objekti | D4: Postojeći stambeni objekti | F4: Godina | G4: Ukupno | H4: Novi stambeni objekti | I4: Postojeći stambeni objekti | K4: Godina | L4: Ukupno | M4: Novi stambeni objekti | N4: Postojeći stambeni objekti
A5: 2008 | B5: - | C5: - | D5: - | F5: 2008 | G5: 129.35 | H5: 125.96 | I5: 130.79 | K5: =F5 -> 2008 | L5: =G5/G$12*100 -> 159.53379 | M5: =H5/H$12*100 -> 324.9742 | N5: =I5/I$12*100 -> 131.89794
A6: 2009 | B6: -24.8 | C6: -7.6 | D6: -31.8 | F6: 2009 | G6: 97.29 | H6: 116.34 | I6: 89.15 | K6: =F6 -> 2009 | L6: =G6/G$12*100 -> 119.9926 | M6: =H6/H$12*100 -> 300.1548 | N6: =I6/I$12*100 -> 89.905204
A7: 2010 | B7: -4 | C7: -11.3 | D7: 0 | F7: 2010 | G7: 93.36 | H7: 103.24 | I7: 89.14 | K7: =F7 -> 2010 | L7: =G7/G$12*100 -> 115.14554 | M7: =H7/H$12*100 -> 266.35707 | N7: =I7/I$12*100 -> 89.895119
A8: 2011 | B8: 4.3 | C8: -4.9 | D8: 8.9 | F8: 2011 | G8: 97.41 | H8: 98.23 | I8: 97.06 | K8: =F8 -> 2011 | L8: =G8/G$12*100 -> 120.1406 | M8: =H8/H$12*100 -> 253.43137 | N8: =I8/I$12*100 -> 97.882211
A9: 2012 | B9: -1.2 | C9: 17.4 | D9: -9.2 | F9: 2012 | G9: 96.28 | H9: 115.31 | I9: 88.16 | K9: =F9 -> 2012 | L9: =G9/G$12*100 -> 118.74692 | M9: =H9/H$12*100 -> 297.49742 | N9: =I9/I$12*100 -> 88.906817
A10: 2013 | B10: -6.3 | C10: -17.2 | D10: -0.2 | F10: 2013 | G10: 90.22 | H10: 95.45 | I10: 87.99 | K10: =F10 -> 2013 | L10: =G10/G$12*100 -> 111.27282 | M10: =H10/H$12*100 -> 246.25903 | N10: =I10/I$12*100 -> 88.735377
A11: 2014 | B11: -2.6 | C11: -8.6 | D11: 0.2 | F11: 2014 | G11: 87.87 | H11: 87.28 | I11: 88.13 | K11: =F11 -> 2014 | L11: =G11/G$12*100 -> 108.37444 | M11: =H11/H$12*100 -> 225.1806 | N11: =I11/I$12*100 -> 88.876563
A12: 2015 | B12: -7.7 | C12: -55.6 | D12: 12.5 | F12: 2015 | G12: 81.08 | H12: 38.76 | I12: 99.16 | K12: =F12 -> 2015 | L12: =G12/G$12*100 -> 100 | M12: =H12/H$12*100 -> 100 | N12: =I12/I$12*100 -> 100
A13: 2016 | B13: 28.9 | C13: 30.5 | D13: 28.6 | F13: 2016 | G13: 104.48 | H13: 50.58 | I13: 127.5 | K13: =F13 -> 2016 | L13: =G13/G$12*100 -> 128.86038 | M13: =H13/H$12*100 -> 130.49536 | N13: =I13/I$12*100 -> 128.58007
A14: 2017 | B14: 1.4 | C14: 17.7 | D14: -1.4 | F14: 2017 | G14: 105.92 | H14: 59.56 | I14: 125.72 | K14: =F14 -> 2017 | L14: =G14/G$12*100 -> 130.63641 | M14: =H14/H$12*100 -> 153.66357 | N14: =I14/I$12*100 -> 126.78499
A15: 2018 | B15: 6.8 | C15: 5 | D15: 7.2 | F15: 2018 | G15: 113.15 | H15: 62.52 | I15: 134.77 | K15: =F15 -> 2018 | L15: =G15/G$12*100 -> 139.55353 | M15: =H15/H$12*100 -> 161.30031 | N15: =I15/I$12*100 -> 135.91166
A16: 2019 | B16: 11.6 | C16: 19.7 | D16: 10 | F16: 2019 | G16: 126.26 | H16: 74.81 | I16: 148.24 | K16: =F16 -> 2019 | L16: =G16/G$12*100 -> 155.72274 | M16: =H16/H$12*100 -> 193.00826 | N16: =I16/I$12*100 -> 149.49576
A17: 2020 | B17: -7.8 | C17: 19.7 | D17: -13.7 | F17: 2020 | G17: 116.44 | H17: 89.55 | I17: 127.92 | K17: =F17 -> 2020 | L17: =G17/G$12*100 -> 143.61125 | M17: =H17/H$12*100 -> 231.03715 | N17: =I17/I$12*100 -> 129.00363
